BEGIN:VCALENDAR
VERSION:2.0
PRODID:-//スペースＲデザイン - ECPv5.16.4//NONSGML v1.0//EN
CALSCALE:GREGORIAN
METHOD:PUBLISH
X-WR-CALNAME:スペースＲデザイン
X-ORIGINAL-URL:https://www.space-r.net
X-WR-CALDESC:スペースＲデザイン のイベント
BEGIN:VTIMEZONE
TZID:Asia/Tokyo
BEGIN:STANDARD
TZOFFSETFROM:+0900
TZOFFSETTO:+0900
TZNAME:JST
DTSTART:20170101T000000
END:STANDARD
END:VTIMEZONE
BEGIN:VEVENT
DTSTART;TZID=Asia/Tokyo:20170628T144000
DTEND;TZID=Asia/Tokyo:20170628T161000
DTSTAMP:20260424T152427
CREATED:20170609T013753Z
LAST-MODIFIED:20170609T013848Z
UID:240530-1498660800-1498666200@www.space-r.net
SUMMARY:【講演】住まいとインテリア＠九州産業大学
DESCRIPTION:この度、九州産業大学建築都市工学部 住宅・インテリア学科で、セミナー『住まいとインテリア』の講師を弊社代表吉原が承ることになりました。 \n九州産業大学で地域の方々も参加できるオープンセミナーです\n詳細情報、お問合せ・お申込みはチラシよりご覧ください \n \n                Tweet
URL:https://www.space-r.net/event/170628_fukuoka_seminar
LOCATION:九州産業大学\, 福岡市東区松香台2-3-1\, 813-8503
CATEGORIES:関係先イベント
ATTACH;FMTTYPE=image/jpeg:https://www.space-r.net/wp/wp-content/uploads/2017/06/170628_seminar.jpg
END:VEVENT
END:VCALENDAR