BEGIN:VCALENDAR
VERSION:2.0
PRODID:-//スペースＲデザイン - ECPv5.16.4//NONSGML v1.0//EN
CALSCALE:GREGORIAN
METHOD:PUBLISH
X-WR-CALNAME:スペースＲデザイン
X-ORIGINAL-URL:https://www.space-r.net
X-WR-CALDESC:スペースＲデザイン のイベント
BEGIN:VTIMEZONE
TZID:Asia/Tokyo
BEGIN:STANDARD
TZOFFSETFROM:+0900
TZOFFSETTO:+0900
TZNAME:JST
DTSTART:20150101T000000
END:STANDARD
END:VTIMEZONE
BEGIN:VEVENT
DTSTART;TZID=Asia/Tokyo:20150207T140000
DTEND;TZID=Asia/Tokyo:20150207T173000
DTSTAMP:20260424T163134
CREATED:20150131T070704Z
LAST-MODIFIED:20190404T002854Z
UID:227818-1423317600-1423330200@www.space-r.net
SUMMARY:リノベーション見学会 山王マンション・新高砂マンション・冷泉荘ツアー
DESCRIPTION:スペースＲデザイン、吉原住宅が手がけるビンテージビルのリノベーション見学会を開催します。\n山王マンション、新高砂マンションそしてリノベーションミュージアム冷泉荘をツアー形式で見学いただきます。 \n1月31日テレビ番組「ぐっ！ジョブ」（株式会社TVQ九州放送）でも登場した\n弊社代表 吉原勝己、冷泉荘管理人 サンダー杉山、そして弊社スタッフが各物件をご案内します。 \n2015年2月7日土曜日 14:00 山王マンション 1F エントランスにご集合ください。\nたくさんの皆さまのご見学、お問い合わせをお待ちしております！ \n  \n\n見学会概要\n\n集合場所：\n山王マンション 1F エントランス\n\n\n見学内容：\n山王マンション新高砂マンション冷泉荘ツアー形式。弊社スタッフがご案内します。\n\n\nスケジュール：\n\n14:00 山王マンション 1F エントランスにご集合ください。 \n時間はおおよその予定です。ご参加人数等により変更となる場合があります。詳細はお問い合わせください。 \n\n14:00～ 山王マンション 見学会\n15:30～ 新高砂マンション 見学会\n16:30～ 冷泉荘 見学会\n17:30頃 解散\n\n\n\n\n参加費：\n無料\n\n\nお問い合わせ\nスペースＲデザイン土曜日見学会担当までお電話またはメールでお問い合わせください。 \n見学会申し込みフォーム\n\n\n  \n    \n                Tweet
URL:https://www.space-r.net/event/20150207kengaku
LOCATION:山王マンション\, 福岡市博多区博多駅南4-19-5\, 812-0016\, 日本
CATEGORIES:見学会・説明会,冷泉荘,山王マンション,新高砂マンション
ATTACH;FMTTYPE=image/jpeg:https://www.space-r.net/wp/wp-content/uploads/2015/01/staff1024.jpg
ORGANIZER;CN="%E3%82%B9%E3%83%9A%E3%83%BC%E3%82%B9%EF%BC%B2%E3%83%87%E3%82%B6%E3%82%A4%E3%83%B3":MAILTO:yj@tenjinpark.com
END:VEVENT
END:VCALENDAR