BEGIN:VCALENDAR
VERSION:2.0
PRODID:-//スペースＲデザイン - ECPv5.16.4//NONSGML v1.0//EN
CALSCALE:GREGORIAN
METHOD:PUBLISH
X-WR-CALNAME:スペースＲデザイン
X-ORIGINAL-URL:https://www.space-r.net
X-WR-CALDESC:スペースＲデザイン のイベント
BEGIN:VTIMEZONE
TZID:Asia/Tokyo
BEGIN:STANDARD
TZOFFSETFROM:+0900
TZOFFSETTO:+0900
TZNAME:JST
DTSTART:20260101T000000
END:STANDARD
END:VTIMEZONE
BEGIN:VEVENT
DTSTART;TZID=Asia/Tokyo:20260214T110000
DTEND;TZID=Asia/Tokyo:20260214T160000
DTSTAMP:20260421T220450
CREATED:20260110T075207Z
LAST-MODIFIED:20260110T075207Z
UID:284952-1771066800-1771084800@www.space-r.net
SUMMARY:【新築｜F-BASE HIDEOUT】ガレージアパートメント完成見学会
DESCRIPTION:ガレージ空間と可変性のある居住空間を組み合わせたガレージアパートメント「F-BASE HIDEOUT」。\nこのたび建築工事が完了し、1階のガレージ、2階＋ロフトの空間を体感いただける完成見学会を開催します。\n \n\n建物は、人生の創意工夫をテーマにした雑誌『デイトナ』と、数多くの設計＆建築を手掛けてきた『LDK』のコラボにより誕生した建築ブランド「DAYTONA HOUSE×LDK」。\n1階はガレージ空間として、趣味や仕事、倉庫、アトリエなど多様な使い方が可能です。\n2階とロフトは、住居・SOHO・創作スペースなど、ライフスタイルに合わせて柔軟に使える構成となっています。\n \n\n（工事中写真です） \n（室内イメージパース：©DAYTONAHOUSE × LDK）\n \n\nガレージ付き住宅・アパートに興味のある方\n建築・空間デザインに関心のある方\n不動産を所有しており今後の賃貸経営のヒントをお探しの方\n建築、不動産関連のお仕事をしている方など\n\nどなたでもご見学いただけますので、お気軽にお越しください。 \n\n\n建物ページ>>>「F-BASE HIDEOUT」（※現在全３区画お申込みをいただいております。）\n \n\n\nF-BASE HIDEOUT 完成見学会\n\n\n日時\n2026年2月14日（土）11:00～16:00\n\n\n内容\n\nF-BASE HIDEOUT の完成見学会 \n\n見学はオープン形式です\n現地に弊社スタッフがおりますので、お気軽にお声掛けください\n \n\n\n\n場所\n\nF-BASE HIDEOUT（福岡市早良区藤崎1丁目4） \n\n地下鉄空港線「藤崎」駅 徒歩約5分\n\n\n\n\n受付\n直接現地へお越しください\n\n\nお申込み\n不要\n\n\n備考\nお車でお越しの場合、近隣のコインパーキング等をご利用ください\n\n\n主催\n株式会社スペースRデザイン\n\n\nお問合せ\nTEL：092-720-2122　／　MAIL：yj@tenjinpark.com\n\n\n\n                Tweet
URL:https://www.space-r.net/event/20260214_f-base
LOCATION:F-BASE HIDEOUT\, 福岡市早良区藤崎1丁目4
CATEGORIES:F-BASE HIDEOUT
ATTACH;FMTTYPE=image/jpeg:https://www.space-r.net/wp/wp-content/uploads/2026/01/f-base.jpeg
END:VEVENT
END:VCALENDAR