BEGIN:VCALENDAR
VERSION:2.0
PRODID:-//スペースＲデザイン - ECPv5.16.4//NONSGML v1.0//EN
CALSCALE:GREGORIAN
METHOD:PUBLISH
X-WR-CALNAME:スペースＲデザイン
X-ORIGINAL-URL:https://www.space-r.net
X-WR-CALDESC:スペースＲデザイン のイベント
BEGIN:VTIMEZONE
TZID:Asia/Tokyo
BEGIN:STANDARD
TZOFFSETFROM:+0900
TZOFFSETTO:+0900
TZNAME:JST
DTSTART:20170101T000000
END:STANDARD
END:VTIMEZONE
BEGIN:VEVENT
DTSTART;TZID=Asia/Tokyo:20170816T190000
DTEND;TZID=Asia/Tokyo:20170816T220000
DTSTAMP:20260424T174630
CREATED:20170802T022204Z
LAST-MODIFIED:20170802T025320Z
UID:241123-1502910000-1502920800@www.space-r.net
SUMMARY:【清川ぶらぶら】清川フルコース化計画～アジア編～
DESCRIPTION:アジア料理のお店だけで5店舗以上ある清川。\nそこでアジアに絞ってフルコースを考えたらどうなる？というのが今回の企画です。\n今後も清川フルコース○○編という形で何度かやってみます。 \n「最初は中華の点心でいってみよう！」\n「メインはスパイシーなお肉とカレーはどうだろ？」\n「アジアの締め料理は何がいいのか？」\nそんなことを考えながら、清川アジアのフルコースを体験をしませんか＾＾？ \n決まっているのは最初の1店舗のみ。\nイメージはこんな感じでしょうか。 \n①おつまみ → ②がっつり → ③締め \n次のお店は候補の中からその場でみんなで決めます。\nぶらりーずお得意のゆるりスタイルなので、ふらっとお気軽にご参加くださいね。\n実験版アジアンフルコースで、夏の清川を楽しみましょうー♪ \n＞清川フルコース化計画についてのぶらリーダーマガジン \n　 \n\nイベント概要\n\n\n日程：\n2017年8月16日(水)\n\n\n時間：\n19:00～22:00頃\n\n\n集合場所：\n点心楼台北（福岡市中央区清川1-10-1）\n\n\n内容：\n\n\n清川アジアフルコース巡り（実験！）\n→点心楼台北\n→2軒目はその場で決定！（解散）\n\n\n\n\n参加費：\n飲食代実費\n\n\n定員：\n5名\n\n\n申込み締切：\n8月15日（火）\n\n\n問合せ・申込み\nスペースＲデザイン「清川ぶらりーず」担当まで\nお電話またはメールでお問い合わせください。清川ぶらぶら申し込みフォーム\n\n\n\n  \n                Tweet
URL:https://www.space-r.net/event/asia
CATEGORIES:新高砂マンション
ATTACH;FMTTYPE=image/jpeg:https://www.space-r.net/wp/wp-content/uploads/2017/08/01.jpg
ORGANIZER;CN="%E3%82%B9%E3%83%9A%E3%83%BC%E3%82%B9%EF%BC%B2%E3%83%87%E3%82%B6%E3%82%A4%E3%83%B3%20%E6%B8%85%E5%B7%9D%E3%81%B6%E3%82%89%E3%82%8A%E3%83%BC%E3%81%9A%E4%BA%8B%E5%8B%99%E5%B1%80":MAILTO:yj@tenjinpark.com
END:VEVENT
END:VCALENDAR