BEGIN:VCALENDAR
VERSION:2.0
PRODID:-//スペースＲデザイン - ECPv5.16.4//NONSGML v1.0//EN
CALSCALE:GREGORIAN
METHOD:PUBLISH
X-WR-CALNAME:スペースＲデザイン
X-ORIGINAL-URL:https://www.space-r.net
X-WR-CALDESC:スペースＲデザイン のイベント
BEGIN:VTIMEZONE
TZID:Asia/Tokyo
BEGIN:STANDARD
TZOFFSETFROM:+0900
TZOFFSETTO:+0900
TZNAME:JST
DTSTART:20150101T000000
END:STANDARD
END:VTIMEZONE
BEGIN:VEVENT
DTSTART;TZID=Asia/Tokyo:20151210T190000
DTEND;TZID=Asia/Tokyo:20151210T210000
DTSTAMP:20260421T204417
CREATED:20151130T113330Z
LAST-MODIFIED:20160609T054841Z
UID:231921-1449774000-1449781200@www.space-r.net
SUMMARY:和ハーブでいろは～お仕事帰りの茶和喫茶～
DESCRIPTION:”まなび”ながら暮らすことで\nその先には今よりももっとおもしろい世界が広がるのだと思います \n茶山ゴコでは、そんな暮らしにまつわるあれこれをまなぶ会を開催していきます\n今回は茶山ゴコに和ハーブのインストラクター・坂井かよみさんをお迎えして\n和ハーブをまなぶ会を行います！ \n \nみなさん、「和ハーブ」というものを知っていますか？\n和ハーブとは、日本の風土の中で育ち昔から暮らしの中に取り入れられてきた有用植物のこと\n例えば、ワサビ、ウド、シソ、三つ葉、春菊、ユズ、ショウガ、クコ、トウガラシなど\nとても身近なものがそれらにあたります \n木材などはその地域で育ったものを使うと長持ちするといわれています\n植物についても同じことが言えて\n住んでいる土地の風土で育ったもののほうがより身体に効果をもたらすのだそうです \n身近にある和ハーブの歴史、効果、効能のお話、薬草風呂や、チンキ剤の作り方などを教えていただき\n実際に和ハーブティのティースティングを行ないます\nまた、今回のハーブ教材は里山風景の広がる坂井さんご実家のハーブ畑より\n摘んできた安心・安全なものをご用意していただいております \n日本ならではの植物文化、和ハーブの知恵や知識をぜひ一緒に学びんでみませんか？\nみなさまのお越しをお待ちしております^^ \n◆講師紹介◆\n坂井かよみさん/ハーバルYIM\n和ハーブ協会認定インストラクター。3年程前に本屋で和ハーブ協会のテキストと出会い『身土不二』というテーマを知り、2年前にの和ハーブ検定の勉強をきっかけに有用植物に魅せられる。\n日々、勉強と研修を含めハーブに出会う旅に出ている。福岡市内でタイハーバル温活『ユーファイ』サロン運営中 \n\nイベント詳細\n\n\n日時：\n12月10日（木）19：00～21：00\n\n\n場所：\n茶山ゴコ（福岡市城南区茶山1-8-27）\n\n\n内容：\n\n\n和ハーブの歴史、効果、効能のお話\n薬草風呂や、チンキ剤の作り方\n和ハーブティのブレンド会(初回入門編)\n和ハーブティにあう持ち寄り品大歓迎！\nご自身の夜ご飯などもお持込OKです^^\n\n\n\n参加費：\n2\,000円\n\n\n定員：\n8名\n\n\nお申込み\n下記申込みフォームよりお申込みください\nイベント申込みフォーム\n\n\n\n                Tweet
URL:https://www.space-r.net/event/chayamagoco151210
LOCATION:茶山ゴコ\, 福岡市城南区茶山1-8-27
CATEGORIES:茶山ゴコ
ATTACH;FMTTYPE=image/jpeg:https://www.space-r.net/wp/wp-content/uploads/2015/11/chayamagoco_wa-harb001.jpg
END:VEVENT
END:VCALENDAR