BEGIN:VCALENDAR
VERSION:2.0
PRODID:-//スペースＲデザイン - ECPv5.16.4//NONSGML v1.0//EN
CALSCALE:GREGORIAN
METHOD:PUBLISH
X-WR-CALNAME:スペースＲデザイン
X-ORIGINAL-URL:https://www.space-r.net
X-WR-CALDESC:スペースＲデザイン のイベント
BEGIN:VTIMEZONE
TZID:Asia/Tokyo
BEGIN:STANDARD
TZOFFSETFROM:+0900
TZOFFSETTO:+0900
TZNAME:JST
DTSTART:20170101T000000
END:STANDARD
END:VTIMEZONE
BEGIN:VEVENT
DTSTART;TZID=Asia/Tokyo:20170627T190000
DTEND;TZID=Asia/Tokyo:20170627T220000
DTSTAMP:20260424T163434
CREATED:20170610T001356Z
LAST-MODIFIED:20170612T001756Z
UID:240499-1498590000-1498600800@www.space-r.net
SUMMARY:【清川夜ぶら】一夜限りの「映画酒場」お酒とおしゃべりと怪獣と。
DESCRIPTION:清川に怪獣がやってくる！\n6月の夜ぶらはちょっと楽しい夜の予感…。 \n福岡を拠点に映画の上映、情報発信を行うグループCinema tocoroさんによる映画の上映会をおこないます。ぶらりーずらしく、お酒とおしゃべりをセットにして♪ \n上映作品は、「大巨獣ガッパ」 \n以下、セレクトいただいたCinema tocoroの森重さんの紹介コメントです。\n『怪獣映画と言えば東映や東宝だが、本作はロマンポルノなどで有名な日活が製作した唯一の怪獣映画。\nド直球のストーリーのはずなのにどこか定番を外している感覚が非常に楽しい。\nガッパは南の島に住む親子怪獣で、探検隊が連れ去った子ガッパを追って日本列島にやってくる。\nデカイ、飛べる、熱線を吐く、しかもいきなり熱海にやってくる。\nワイワイ楽しみながら観るのにぴったりの、ツッコミどころ満載、ザ・娯楽映画。』 \nもう笑ってしまいました…。 \n楽しい予感がぷんぷんしますが、清川らしくお酒を飲みながら、おしゃべりも楽しみつつ、一夜限りの映画酒場を楽しみましょう。\nお酒とおつまみは少し準備しますが、基本は持ち寄りスタイルです。\n飲みたいもの、食べたいものをお持ちください^^ \n清川ロータリープレイス内のオシャレなガレージオフィスにて、お待ちしています♪ \n※ 注)：参加費は事前決済制となっています。\nこちらの「映画申込」ページより事前決済をお願いします。\nなお、支払い方法はカード決済のみとなりますのでご了承ください。 \n＊information＊\nCinema tocoro(シネマトコロ)\n福岡の劇場で公開されなかった作品を中心に上映会やプロモーションを行っている。\n清川では、現在のインディペンデント映画の父的存在であるサミュエル・フラーの特集上映（2016）\nを手作りの上映セットで行った。数年のうちに福岡に映画館をつくるべく、日々奮闘中。\nhttp://mikado-info.jp/ \n　 \n\nイベント概要\n\n\n日程：\n2017年6月27日(火)\n\n\n時間：\n19:00～ 映画終了まで\n\n\n集合場所：\n清川ロータリープレイス内ガレージオフィス（福岡市中央区清川2-4-29 新高砂マンション1F）\n\n\n内容：\n\n\n映画酒場「大巨獣ガッパ」上映\n◎お酒を飲みながら、おしゃべりも楽しみつつ映画鑑賞\n\n\n\n\n\n参加費：\n2\,000円(映画料金・お酒1杯・ソフトドリンク少々・おつまみ少々込）\n※参加費は事前決済制です。こちらの「映画申込」ページより事前決済をお願いします。\n（支払い方法はカード決済のみとなります）\n※各自飲みたいもの、食べたいものをお持ちください。\n\n\n定員：\n15名\n\n\n申込み締切：\n6月24日（土）\n\n\nキャンセル：\nご購入から7日以内、かつイベント開催前日までに限ります\nhttps://popcorn.theater/faq\n\n\n問合せ・申込み\nスペースＲデザイン「清川ぶらりーず」担当まで\nお電話またはメールでお問い合わせください。清川ぶらぶら申し込みフォーム\n\n\n\n  \n                Tweet
URL:https://www.space-r.net/event/eigasakaba
LOCATION:清川ロータリープレイス\, 福岡市中央区清川2-4-29新高砂マンション1階
CATEGORIES:新高砂マンション
ATTACH;FMTTYPE=image/jpeg:https://www.space-r.net/wp/wp-content/uploads/2017/06/gappa.jpg
ORGANIZER;CN="%E3%82%B9%E3%83%9A%E3%83%BC%E3%82%B9%EF%BC%B2%E3%83%87%E3%82%B6%E3%82%A4%E3%83%B3%20%E6%B8%85%E5%B7%9D%E3%81%B6%E3%82%89%E3%82%8A%E3%83%BC%E3%81%9A%E4%BA%8B%E5%8B%99%E5%B1%80":MAILTO:yj@tenjinpark.com
END:VEVENT
END:VCALENDAR