BEGIN:VCALENDAR
VERSION:2.0
PRODID:-//スペースＲデザイン - ECPv5.16.4//NONSGML v1.0//EN
CALSCALE:GREGORIAN
METHOD:PUBLISH
X-WR-CALNAME:スペースＲデザイン
X-ORIGINAL-URL:https://www.space-r.net
X-WR-CALDESC:スペースＲデザイン のイベント
BEGIN:VTIMEZONE
TZID:Asia/Tokyo
BEGIN:STANDARD
TZOFFSETFROM:+0900
TZOFFSETTO:+0900
TZNAME:JST
DTSTART:20190101T000000
END:STANDARD
END:VTIMEZONE
BEGIN:VEVENT
DTSTART;TZID=Asia/Tokyo:20190720T100000
DTEND;TZID=Asia/Tokyo:20190720T170000
DTSTAMP:20260424T164724
CREATED:20190708T055656Z
LAST-MODIFIED:20190708T085346Z
UID:249993-1563616800-1563642000@www.space-r.net
SUMMARY:【フォリアオークス】ニュー１Ｒ！リノベーション見学会
DESCRIPTION:無個性になりがちな1Ｒ。\n今回の企画では、そんなイメージを一新します。 \n1Ｒだからできる、楽しい暮らし方。\n1Ｒだから広げることができる、住まい以外も含めたライフスタイルの充実。 \n新たな価値観を創造できる1Ｒを「ニュー1Ｒ」とし、この日限りのスペシャルな部屋を用意します！\n賃貸1Ｒから広がる新しいライフスタイルを現地で妄想してみてはいかがでしょうか。 \nこの機会にぜひ、フォリアオークスへ遊びにお越しください。 \n \n　 \n　 \n【無料撮影会のご案内】\n当日13時以降にご来場された方には、フォリアオークス106号のフォトスタジオ「ナチュラルライト」さんより〈無料撮影１カットプレゼント〉の特典がつきます！（衣装着用、撮影リクエストは不可） \n●日時：7月20日㈯　13:00～\n●会場：フォリアオークス106号\n●予約：不要 \nナチュラルライト\nHP｜facebook｜Instagram \n　  \n【同時開催のお知らせ】\n7/19（金）・7/20（土）の2日間は、新高砂マンション1階の清川ロータリープレイスにて、「新しい暮らし展」を同時開催中です！ワークショップや写真撮影ほか、ドライフラワーや洋服の販売など入居テナントさんによる楽しい催しがおこなわれます。\nぜひこちらも併せて遊びにお越しください。 \n\nイベント概要\n\n\n日時\n2019年7月20日（土）10：00～17：00\n\n\n受付\nフォリアオークス403号（福岡市南区大楠1-15-32）\n\n\nお問合せ\nTEL：092-720-2122／MAIL：yj@tenjinpark.com\n\n\n\n                Tweet
URL:https://www.space-r.net/event/foglia
LOCATION:フォリアオークス\, 福岡市南区大楠1-15-32\, 日本
CATEGORIES:見学会・説明会,フォリアオークス
ATTACH;FMTTYPE=image/jpeg:https://www.space-r.net/wp/wp-content/uploads/2019/07/01.jpg
ORGANIZER;CN="%E3%82%B9%E3%83%9A%E3%83%BC%E3%82%B9%EF%BC%B2%E3%83%87%E3%82%B6%E3%82%A4%E3%83%B3":MAILTO:yj@tenjinpark.com
END:VEVENT
END:VCALENDAR