BEGIN:VCALENDAR
VERSION:2.0
PRODID:-//スペースＲデザイン - ECPv5.16.4//NONSGML v1.0//EN
CALSCALE:GREGORIAN
METHOD:PUBLISH
X-WR-CALNAME:スペースＲデザイン
X-ORIGINAL-URL:https://www.space-r.net
X-WR-CALDESC:スペースＲデザイン のイベント
BEGIN:VTIMEZONE
TZID:Asia/Tokyo
BEGIN:STANDARD
TZOFFSETFROM:+0900
TZOFFSETTO:+0900
TZNAME:JST
DTSTART:20170101T000000
END:STANDARD
END:VTIMEZONE
BEGIN:VEVENT
DTSTART;TZID=Asia/Tokyo:20170810T180000
DTEND;TZID=Asia/Tokyo:20170810T210000
DTSTAMP:20260421T175614
CREATED:20170726T035207Z
LAST-MODIFIED:20170726T040037Z
UID:241031-1502388000-1502398800@www.space-r.net
SUMMARY:たのしイネ夜会～お仕事帰りにイネに会いに行こう！～＜たのしイネseason2　番外編＞
DESCRIPTION:たのしイネは、都会ビルの屋上を舞台に、ペットボトルで一粒の種もみから収穫、お米を食べるまでを体験する取り組み。まちなかで農や食と出会うプロジェクトです。
URL:https://www.space-r.net/event/ine170810
LOCATION:冷泉荘\, 福岡県福岡市博多区上川端町9-35\, Japan
CATEGORIES:たのしイネ,冷泉荘
ATTACH;FMTTYPE=image/jpeg:https://www.space-r.net/wp/wp-content/uploads/2017/07/tanoshiine170810.jpg
ORGANIZER;CN="%E3%82%B9%E3%83%9A%E3%83%BC%E3%82%B9%EF%BC%B2%E3%83%87%E3%82%B6%E3%82%A4%E3%83%B3":MAILTO:yj@tenjinpark.com
END:VEVENT
END:VCALENDAR