BEGIN:VCALENDAR
VERSION:2.0
PRODID:-//スペースＲデザイン - ECPv5.16.4//NONSGML v1.0//EN
CALSCALE:GREGORIAN
METHOD:PUBLISH
X-WR-CALNAME:スペースＲデザイン
X-ORIGINAL-URL:https://www.space-r.net
X-WR-CALDESC:スペースＲデザイン のイベント
BEGIN:VTIMEZONE
TZID:Asia/Tokyo
BEGIN:STANDARD
TZOFFSETFROM:+0900
TZOFFSETTO:+0900
TZNAME:JST
DTSTART:20230101T000000
END:STANDARD
END:VTIMEZONE
BEGIN:VEVENT
DTSTART;TZID=Asia/Tokyo:20230701T110000
DTEND;TZID=Asia/Tokyo:20230701T160000
DTSTAMP:20260424T125944
CREATED:20230614T052432Z
LAST-MODIFIED:20230614T052432Z
UID:273708-1688209200-1688227200@www.space-r.net
SUMMARY:【学生インターン 部屋再生プロジェクト】“ネオ押入れ" で遊ぼう！＠新高砂マンション
DESCRIPTION:学生インターン５人による部屋再生プロジェクト、イベントを開催します！\n舞台は昨年に引き続き、新高砂マンション409号室。 \n \n\n2022年度のインターンでは、「解体からはじまるつながり」をテーマに、1977年建築当時の状態から、壁と床の解体ワークショップをおこないました。また、「再生のはじまりの“解体行為”を身近に感じてもらいたい」という想いから解体現場をひらくイベント「解体ミュージアム」を開催。多くの方に現場にお越しいただき、多様なつながりづくりに取り組みました。 \n\n解体ワークショップ集合写真（2022.5.14）\n解体ミュージアムの開催風景（2022.6.）\n\n\nその現場を引き継ぎ、学び合う５人の感性から生まれたのは、「遊び心を詰め込んで、アイディアや思い出を共有する場をつくる」というテーマ。\n409号室をじっくり観察する中で、注目したのは押入れの存在でした。築古物件ならではの押し入れの存在とその広さに新鮮さを感じたことから、この押入れ空間を使った新しくて自由な使い方アイディアの発信と、いろんな人と想いを共有する場づくりを目指します。 \nイベント当日は、押入れ空間の展示、DIY体験、壁面アート企画などを計画中です。 \n\n2022年解体ミュージアムの部材も再利用します\n押し入れの壁に小窓！？\nアート企画も準備中\n押入れの一部を解体。自由なアイディアをもとに造作中\n\n\n解体現場がどんな感じか見てみたい方\n建築・リノベーションを学んでいて、実際の現場を見てみたい学生の方\nDIYによる部屋づくりに興味がある方\n\nなど、どなたでもお気軽にお立ち寄りいただけます！\n当日はインターン生が滞在していますので、お好きな時間にお越しください～！ \n\n◎学生インターン５人の自己紹介\n「大学も学年も多種多様なインターン生5人が自己紹介します。」 \n◎新高砂マンション建物ページ\nhttps://www.space-r.net/rent/shintakasago/ \n\n  \n\nイベント概要\n\n\n日時\n\n2023年7月1日（土）11：00～16：00（予定）\nお好きな時間にお立ち寄りください。 \n※事前お申込みなしでお立ち寄りいただけますが、可能な方は下記フォームから事前にお申込みお願いいたします。 \n\n\n\n内容\n\n\n \n押入れ空間の展示\nDIY体験\n壁面アート企画\n\n\n\n\n\n会場\n新高砂マンション（福岡市中央区清川2-4-29）※409号室にお越しください\n\n\n参加費\n無料\n\n \n\n問合せ・申込み\nスペースＲデザインまで\nお電話またはメールでお問い合わせください。\nTEL 092-720-2122\nMAIL yj@tenjinpark.com\n\n\n\n主催\nスペースＲデザイン\n\n\n\nお申込みフォーム\n事前お申込みなしでお立ち寄りいただけますが、可能な方は下記フォームから事前にお申込みお願いいたします。\n\n\n  \n\n\n\n\n\n\n\n\n\n\n\n\n	必須は必須項目です。\n	 \n	\n		\n			イベント参加申込フォーム\n			 \n			\n				このテーブルの説明\n				\n				以下のテーブルでは2カラムで、1番目のカラムに申込に必要な項目名、その右側に入力フォームがあります。項目名に必須と入ってるのは必ず入力してください。\n				 \n			\n		\n		\n			\n				\n					イベント名\n					 \n				\n				\n					学生インターン 部屋再生プロジェクト2023\n					 \n				\n			\n			\n				\n					お名前必須\n					 \n				\n				\n					\n					 \n				\n			\n			\n				\n					お名前（フリガナ）必須\n					 \n				\n				\n					\n					 \n				\n			\n			\n				\n					メールアドレス必須\n					 \n				\n				\n					携帯アドレス不可\n					 \n				\n			\n			\n				\n					職業等 ※任意\n					 \n				\n				\n					一般学生不動産オーナー不動産管理会社・仲介会社\n					 \n				\n			\n			\n				\n					ご質問などございましたら自由にご記入ください\n					 \n				\n				\n					\n					 \n				\n			\n		\n	\n	よろしければアンケートにご協力ください。\n	 \n	\n		\n			アンケートフォーム\n			 \n			\n				このテーブルの説明\n				\n				\nこのアンケートフォームは入力しなくても大丈夫です。\nテーブルでは2カラムで、1番目のカラムに申込に必要な項目名、その右側に入力フォームがあります。\n				 \n			\n		\n		\n			\n				\n					きっかけ\n					 \n				\n				\n					検索サイトFacebookInstagramtwitter書籍・新聞・雑誌の記事イベント知人・取引先現地案内物件ファン（bukkenfan.jp）\n					 \n				\n			\n			\n				\n					どれくらいの頻度で当サイトをご覧になりますか？\n					 \n				\n				\n					選択してください初めて毎日週に数回月に数回気が向いたとき\n					 \n				\n			\n			\n				\n					メルマガ登録されますか？\n月1回 最新情報お知らせ\n					 \n				\n				\n					選択してください登録済み登録希望希望しない\n					 \n				\n			\n		\n	\n\n	\n		\n		 \n	\n\n\n\nΔ \n\n\n \n                Tweet
URL:https://www.space-r.net/event/intern2023_0701
LOCATION:新高砂マンション\, 福岡市中央区清川2-4-29\, 日本
CATEGORIES:新高砂マンション
ATTACH;FMTTYPE=image/jpeg:https://www.space-r.net/wp/wp-content/uploads/2023/06/intern2023_0701_main001.jpg
END:VEVENT
END:VCALENDAR