BEGIN:VCALENDAR
VERSION:2.0
PRODID:-//スペースＲデザイン - ECPv5.16.4//NONSGML v1.0//EN
CALSCALE:GREGORIAN
METHOD:PUBLISH
X-WR-CALNAME:スペースＲデザイン
X-ORIGINAL-URL:https://www.space-r.net
X-WR-CALDESC:スペースＲデザイン のイベント
BEGIN:VTIMEZONE
TZID:Asia/Tokyo
BEGIN:STANDARD
TZOFFSETFROM:+0900
TZOFFSETTO:+0900
TZNAME:JST
DTSTART:20190101T000000
END:STANDARD
END:VTIMEZONE
BEGIN:VEVENT
DTSTART;TZID=Asia/Tokyo:20191019T150000
DTEND;TZID=Asia/Tokyo:20191019T180000
DTSTAMP:20260424T151102
CREATED:20191007T072801Z
LAST-MODIFIED:20211211T071618Z
UID:250927-1571497200-1571508000@www.space-r.net
SUMMARY:久留米市主催：「DIYリノベがまちを変える」セミナー
DESCRIPTION:久留米市主催によるセミナーのご案内です。\nDIYリノベーションした空き家・空き部屋の事例を紹介し、専門家からノウハウを学びます。\n自分好みに改修できるDIYリノベーションを普及させ、住宅ストックの更なる活用に繋げることを目的としています。 \n\n【基調講演／講師紹介】 \n\n\n\n\n \n\n大菅 力 氏\n1967年東京生まれ。早稲田大学第二文学部中退。1994年株式会社建築知識（現在のエクスナレッジ）に入社。月刊「建築知識」、季刊「iA」などの建築・住宅系雑誌の編集長を務めた。2010年にフリーランスになる。現在「リノベーションジャーナル」(新建新聞社刊)編集長ほか、フリーランスのライターや編集者として活動。著書に「あたり前の家がなぜつくれないのか」（エクスナレッジ刊）、「リフォーム[見積り+工事管理]マニュアル」（建築資料研究社刊）などがある。\n\n\n\n\n　 \n \n\nイベント概要\n\n\n日程：\n2019年10月19日(土) 15:00～18:00\n\n\n会場：\n久留米商工会館 5階大ホール（福岡県久留米市城南町15-5）\n\n\n内容：\n\n\nプログラム\n【第1部】基調講演\n「DIYリノベーションによるまちの活性化」\n講師：大菅 力 氏 / リノベーションジャーナル編集長 \n【第2部】久留米のDIYによる事例紹介\n事例①「空き家オーナーのDIYリノベによる不動産再生」\n井上美恵子 / 松葉ビレッジオーナー  \n事例②「コミュニティデザイン・DIYリノベによる不動産再生」\n（民間団地：コーポ江戸屋敷）\n半田啓祐・半田満 / 合同会社H&A brothers\nbrian yaputra / 久留米工業大学 \n【第3部】職人が教えるDIY\n講座①「職人の役割と職人シェアオフィスの活動紹介」\n亀崎正吾 / 亀崎開楽園（造園）・職人シェアオフィス代表 \n講座②「塗装、クロス張りのテクニック」\n岩橋雄也 / 岩橋塗装工業（塗装）・職人シェアオフィスメンバー\n佐土原大志 / 佐土原内装工業（クロス）・職人シェアオフィスメンバー\n\n\n\n\n対象：\nDIY、リノベーション、空き家活用に興味のある方\n\n\n参加費：\n無料\n\n\n申込開始：\n10月8日（火）8:30～\n\n\n申込締切：\n10月17日（木）\n\n\n申込方法・問合せ：\n\n\n久留米市住宅政策課\n電話・FAX・メールのいずれかにてお申込みください \n【電話】0942-30-9139\n【FAX】0942-30-9743\n【メール】housing@city.kurume.fukuoka.jp\n\n\n\n\n\n  \n                Tweet
URL:https://www.space-r.net/event/kurumediy
LOCATION:久留米商工会館大ホール\, 久留米市城南町 15-5
CATEGORIES:関係先イベント,コーポ江戸屋敷,松葉ビレッジ
ATTACH;FMTTYPE=image/jpeg:https://www.space-r.net/wp/wp-content/uploads/2019/10/80956491e162b2a0cab516df30a8af73-1.jpg
END:VEVENT
END:VCALENDAR