BEGIN:VCALENDAR
VERSION:2.0
PRODID:-//スペースＲデザイン - ECPv5.16.4//NONSGML v1.0//EN
CALSCALE:GREGORIAN
METHOD:PUBLISH
X-WR-CALNAME:スペースＲデザイン
X-ORIGINAL-URL:https://www.space-r.net
X-WR-CALDESC:スペースＲデザイン のイベント
BEGIN:VTIMEZONE
TZID:Asia/Tokyo
BEGIN:STANDARD
TZOFFSETFROM:+0900
TZOFFSETTO:+0900
TZNAME:JST
DTSTART:20220101T000000
END:STANDARD
END:VTIMEZONE
BEGIN:VEVENT
DTSTART;TZID=Asia/Tokyo:20220514T130000
DTEND;TZID=Asia/Tokyo:20220514T160000
DTSTAMP:20260426T084741
CREATED:20220430T013441Z
LAST-MODIFIED:20220430T015808Z
UID:266933-1652533200-1652544000@www.space-r.net
SUMMARY:【西浦ルービック】木造戸建てリノベーション完成見学会～住居から美容室へ～
DESCRIPTION:1971年築造の木造２階建て、変わりゆくまちの変化を見続けてきた「西浦ルービック」（福岡市中央区六本松）。 \n元住居の１階に新しい事業者さんがご入居されることになり、\n「住居」から「美容室」へと、新たな歩みを進めることとなりました。 \nこのたび美容室へのリノベーション工事が完成しましたので、完成見学会を開催いたします。 \n\n（※工事中の写真です）\n\n\n空き家となった建物の活用を考えられている方\n木造戸建での店舗づくりを考えられている方\nリノベーションに興味のある方など、\nどうぞどなたでもお気軽にお越しください。 \n西浦ルービック１階【工事前】\n\n\n\n\n西浦ルービック１階 詳細ページ>>> \n西浦ルービック\n1971年築造、もと九大生向け住居アパートの木造２階建て。2021年、2階が店舗やオフィスとして利用できる仕事場へ生まれ変わりました。\n変化する六本松のまちで、長く大切にされてきた建物の歴史とオーナーの想いが受け継がれている建物です。\nこのたび募集業務と内装デザイン・工事業務に携わらせていただきました。\n西浦ルービック建物ページ>>>\n \n  \n\n「西浦ルービック」リノベーション完成見学会\n\n\n日程\n2022年5月14日（土）\n\n\n時間\n13：00～16：00 \n※コロナウイルス感染対策により内覧のご案内は事前ご予約制とさせていただきます。 \n\n\n\n会場\n\n西浦ルービック（福岡市中央区六本松1-8-4） \n※駐車場がございませんので、公共交通機関をお使いいただくか、お近くのコインパーキングをご利用ください。 \n\n\n\n参加費\n無料\n\n\nお申込み\n下記お申込みフォームよりお申込みください。\n\n\nお問合せ\n\nスペースＲデザインまで お電話またはメールでお問い合わせください。\nMail：yj@tenjinpark.comTel：092-720-2122 \n\n\n\n\n完成見学会お申込みフォーム\n\n\n  \n\n\n\n\n\n\n\n\n\n\n\n\n	必須は必須項目です。\n	 \n	\n		\n			イベント参加申込フォーム\n			 \n			\n				このテーブルの説明\n				\n				以下のテーブルでは2カラムで、1番目のカラムに申込に必要な項目名、その右側に入力フォームがあります。項目名に必須と入ってるのは必ず入力してください。\n				 \n			\n		\n		\n			\n				\n					イベント名\n					 \n				\n				\n					【西浦ルービック】【西浦ルービック】木造戸建てリノベーション完成見学会～住居から美容室へ～\n					 \n				\n			\n			\n				\n					会社名\n					 \n				\n				\n					\n					 \n				\n			\n			\n				\n					お名前必須\n					 \n				\n				\n					\n					 \n				\n			\n			\n				\n					お名前（フリガナ）必須\n					 \n				\n				\n					\n					 \n				\n			\n			\n				\n					性別必須\n					 \n				\n				\n					男性女性\n					 \n				\n			\n			\n				\n					メールアドレス必須\n					 \n				\n				\n					携帯アドレス不可\n					 \n				\n			\n			\n				\n					お電話番号必須\n					 \n				\n				\n					\n					 \n				\n			\n			\n				\n					職業等必須\n					 \n				\n				\n					一般学生不動産オーナー不動産管理会社・仲介会社\n					 \n				\n			\n			\n				\n					参加予定人数必須\n					 \n				\n				\n					 人\n					 \n				\n			\n			\n				\n					見学を希望される時間帯（第一希望）必須\n					 \n				\n				\n					13：00〜14：00〜15：00〜\n					 \n				\n			\n			\n				\n					見学を希望される時間帯（第二希望）必須\n					 \n				\n				\n					13：00〜14：00〜15：00〜\n					 \n				\n			\n			\n				\n					ご要望・ご質問\n					 \n				\n				\n					\n					 \n				\n			\n		\n	\n	よろしければアンケートにご協力ください。\n	 \n	\n		\n			アンケートフォーム\n			 \n			\n				このテーブルの説明\n				\n				\nこのアンケートフォームは入力しなくても大丈夫です。\nテーブルでは2カラムで、1番目のカラムに申込に必要な項目名、その右側に入力フォームがあります。\n				 \n			\n		\n		\n			\n				\n					きっかけ\n					 \n				\n				\n					検索サイトFacebookInstagram書籍・新聞・雑誌の記事イベント知人・取引先現地案内物件ファン（bukkenfan.jp）\n					 \n				\n			\n			\n				\n					どれくらいの頻度で当サイトをご覧になりますか？\n					 \n				\n				\n					選択してください初めて毎日週に数回月に数回気が向いたとき\n					 \n				\n			\n			\n				\n					メルマガ登録されますか？\n月1回 最新情報お知らせ\n					 \n				\n				\n					選択してください登録済み登録希望希望しない\n					 \n				\n			\n		\n	\n\n	\n		\n		 \n	\n\n\n\nΔ\n \n\n\n\n\n新型コロナウイルスに対する現地内覧会での対応について\n当内覧会では新型コロナウイルス感染拡大防止の取り組みとして、以下の対策を実施しております。お客様には大変ご不便をおかけいたしますが、ご協力の程、お願い申し上げます。 \n\nお客様のご案内制限\nお客様同士の接触を控えるため、完全予約制でのご案内としております。1時間に4組様ずつ貸し切りでご見学いただいておりますので、ご希望の時間に沿えない場合がございます。予めご了承ください。\n定期的な室内換気、衛生環境の強化\n1時間に1度を目安に物件内の換気を行っております。また、ご案内後はアルコール等での清掃及び換気のため、次にご案内のお客様におかれましては、お待たせすることがございます。\nスタッフのマスク着用、健康管理の徹底\nスタッフはマスク着用でのご案内をいたします。また、出勤時に体温検査を行い、発熱（37.5°C以上）や風邪の症状がある場合、当物件への立ち入りを禁止しております。\nアルコールでの消毒\n当内覧会ではアルコール消毒を準備しておりますので、ご来場の際は消毒にご協力くださいますようお願い申し上げます。\n \nお客様へのお願い\nご来場の際は、マスクの着用をお願いしております。また、ご自宅にて検温にご協力いただけますよう、よろしくお願いいたします。お客様及び当社スタッフの安全のため、以下に該当されるお客様におかれましては、ご来場をお断りさせていただく場合がございます。 \n\n・熱がある、体調の優れない方が周りにいらっしゃる場合\n・来場日より3ヶ月以内に海外渡航歴がある場合\n・新型コロナウイルス感染者（疑いも含む）と濃厚接触のある場合 \n誠に恐縮ではございますが、ご理解ご了承の程、何卒お願い申し上げます。 \n\n                Tweet
URL:https://www.space-r.net/event/nishiura-rubik-1f-0512
LOCATION:西浦ルービック\, 六本松1丁目8-4\, 福岡市中央区\, 福岡県\, 810-0044\, 日本
CATEGORIES:見学会・説明会,西浦ルービック
ATTACH;FMTTYPE=image/jpeg:https://www.space-r.net/wp/wp-content/uploads/2022/04/IMG_20220413_144712875.jpg
END:VEVENT
END:VCALENDAR