BEGIN:VCALENDAR
VERSION:2.0
PRODID:-//スペースＲデザイン - ECPv5.16.4//NONSGML v1.0//EN
CALSCALE:GREGORIAN
METHOD:PUBLISH
X-WR-CALNAME:スペースＲデザイン
X-ORIGINAL-URL:https://www.space-r.net
X-WR-CALDESC:スペースＲデザイン のイベント
BEGIN:VTIMEZONE
TZID:Asia/Tokyo
BEGIN:STANDARD
TZOFFSETFROM:+0900
TZOFFSETTO:+0900
TZNAME:JST
DTSTART:20220101T000000
END:STANDARD
END:VTIMEZONE
BEGIN:VEVENT
DTSTART;TZID=Asia/Tokyo:20220115T110000
DTEND;TZID=Asia/Tokyo:20220115T163000
DTSTAMP:20260426T112438
CREATED:20211218T050527Z
LAST-MODIFIED:20211227T060021Z
UID:264811-1642244400-1642264200@www.space-r.net
SUMMARY:【西浦ルービック】木造戸建て１階見学会(店舗用区画)
DESCRIPTION:前回２階を募集していた「西浦ルービック」（福岡市中央区六本松）。\n今回は、１階店舗用区画の募集開始に伴い、見学会を開催します。 \nもともと住居として利用されていた１階は、既存の状態（住居仕様）での募集です。\n今回の募集にあたり耐震補強工事を実施しています。\n中央区で軽飲食可能な1階店舗区画は貴重なので、ぜひこの機会にご見学いただければと思います。 \nまた、入居希望者さんだけでなく木造住宅活用の可能性を知りたい方にもおすすめです。\n店舗へ改装工事する前の状態を見ることで、お店が完成した後の変化をより感じていただけると思います。 \n2021年10月に九大生向けのアパートからシゴトバへと生まれ変わった２階。現在はフォトスタジオ「サラニノアトリエ」さんが入居されており、当日は状況次第ですが２階もご見学できるかもしれません。 \n１階店舗・戸建て店舗区画をお探しの方\n木造戸建ての活用方法を見てみたい方\nなど、ご興味ある方はぜひお越しください。 \n\n\n1階募集区画（住居仕様のままの状態）\n\n \n\n2階（現在はフォトスタジオさんがご入居中）\n\n \n\n  \n■募集情報\n\n「西浦ルービック１階」募集ページ\n \n  \n\n■イベント情報\n同じ日に、茶山ゴコでもイベント「茶山ゴコびらき ～１階見学会 / アトリエマルシェ / 備品譲渡会～」を開催します！\n2つの建物は、地下鉄七隈線「六本松駅」と「茶山駅」よりそれぞれ徒歩5分以内ですので、ぜひはしごして下さい。 \nイベントページはこちら>>>1月15日（土）茶山ゴコびらき～１階見学会 / アトリエマルシェ / 備品譲渡会～ \n\n  \n\n【西浦ルービック】木造戸建て１階見学会(店舗用区画)\n\n\n日程\n2022年1月15日（土）\n\n\n時間\n11：00～16：30\n\n\n\n会場\n\n西浦ルービック（福岡市中央区六本松1-8-4） \n※駐車場がございませんので、公共交通機関をお使いいただくか、お近くのコインパーキングをご利用ください。 \n\n\n\n参加費\n無料\n\n\nお申込み\n下記お申込みフォームよりお申込みください。\n\n\nお問合せ\n\nスペースＲデザインまで お電話またはメールでお問い合わせください。\nMail：yj@tenjinpark.comTel：092-720-2122 \n\n\n\n\n完成見学会お申込みフォーム\n\n\n  \n\n\n\n\n\n\n\n\n\n\n\n\n	必須は必須項目です。\n	 \n	\n		\n			イベント参加申込フォーム\n			 \n			\n				このテーブルの説明\n				\n				以下のテーブルでは2カラムで、1番目のカラムに申込に必要な項目名、その右側に入力フォームがあります。項目名に必須と入ってるのは必ず入力してください。\n				 \n			\n		\n		\n			\n				\n					イベント名\n					 \n				\n				\n					【西浦ルービック】木造戸建て１階見学会(店舗用区画)会\n					 \n				\n			\n			\n				\n					会社名\n					 \n				\n				\n					\n					 \n				\n			\n			\n				\n					お名前必須\n					 \n				\n				\n					\n					 \n				\n			\n			\n				\n					お名前（フリガナ）必須\n					 \n				\n				\n					\n					 \n				\n			\n			\n				\n					性別必須\n					 \n				\n				\n					男性女性\n					 \n				\n			\n			\n				\n					メールアドレス必須\n					 \n				\n				\n					携帯アドレス不可\n					 \n				\n			\n			\n				\n					お電話番号必須\n					 \n				\n				\n					\n					 \n				\n			\n			\n				\n					職業等必須\n					 \n				\n				\n					一般学生不動産オーナー不動産管理会社・仲介会社\n					 \n				\n			\n			\n				\n					参加予定人数必須\n					 \n				\n				\n					 人\n					 \n				\n			\n			\n				\n					見学を希望される時間帯（第一希望）必須\n					 \n				\n				\n					11：00〜12：00〜13：00〜14：00〜15：00〜16：00〜\n					 \n				\n			\n			\n				\n					見学を希望される時間帯（第二希望）必須\n					 \n				\n				\n					11：00〜12：00〜13：00〜14：00〜15：00〜16：00〜\n					 \n				\n			\n			\n				\n					ご要望・ご質問\n					 \n				\n				\n					\n					 \n				\n			\n		\n	\n	よろしければアンケートにご協力ください。\n	 \n	\n		\n			アンケートフォーム\n			 \n			\n				このテーブルの説明\n				\n				\nこのアンケートフォームは入力しなくても大丈夫です。\nテーブルでは2カラムで、1番目のカラムに申込に必要な項目名、その右側に入力フォームがあります。\n				 \n			\n		\n		\n			\n				\n					きっかけ\n					 \n				\n				\n					検索サイトFacebook書籍・新聞・雑誌の記事イベント知人・取引先現地案内物件ファン（bukkenfan.jp）\n					 \n				\n			\n			\n				\n					どれくらいの頻度で当サイトをご覧になりますか？\n					 \n				\n				\n					選択してください初めて毎日週に数回月に数回気が向いたとき\n					 \n				\n			\n			\n				\n					メルマガ登録されますか？\n月1回 最新情報お知らせ\n					 \n				\n				\n					選択してください登録済み登録希望希望しない\n					 \n				\n			\n		\n	\n\n	\n		\n		 \n	\n\n\n\nΔ\n \n\n\n\n\n新型コロナウイルスに対する現地内覧会での対応について\n当内覧会では新型コロナウイルス感染拡大防止の取り組みとして、以下の対策を実施しております。お客様には大変ご不便をおかけいたしますが、ご協力の程、お願い申し上げます。 \n\nお客様のご案内制限\nお客様同士の接触を控えるため、完全予約制でのご案内としております。1時間に4組様ずつ貸し切りでご見学いただいておりますので、ご希望の時間に沿えない場合がございます。予めご了承ください。\n定期的な室内換気、衛生環境の強化\n1時間に1度を目安に物件内の換気を行っております。また、ご案内後はアルコール等での清掃及び換気のため、次にご案内のお客様におかれましては、お待たせすることがございます。\nスタッフのマスク着用、健康管理の徹底\nスタッフはマスク着用でのご案内をいたします。また、出勤時に体温検査を行い、発熱（37.5°C以上）や風邪の症状がある場合、当物件への立ち入りを禁止しております。\nアルコールでの消毒\n当内覧会ではアルコール消毒を準備しておりますので、ご来場の際は消毒にご協力くださいますようお願い申し上げます。\n \nお客様へのお願い\nご来場の際は、マスクの着用をお願いしております。また、ご自宅にて検温にご協力いただけますよう、よろしくお願いいたします。お客様及び当社スタッフの安全のため、以下に該当されるお客様におかれましては、ご来場をお断りさせていただく場合がございます。 \n\n・熱がある、体調の優れない方が周りにいらっしゃる場合\n・来場日より3ヶ月以内に海外渡航歴がある場合\n・新型コロナウイルス感染者（疑いも含む）と濃厚接触のある場合 \n誠に恐縮ではございますが、ご理解ご了承の程、何卒お願い申し上げます。 \n\n                Tweet
URL:https://www.space-r.net/event/nishiura-rubik-20220115
LOCATION:西浦ルービック\, 六本松1丁目8-4\, 福岡市中央区\, 福岡県\, 810-0044\, 日本
CATEGORIES:見学会・説明会,西浦ルービック
ATTACH;FMTTYPE=image/jpeg:https://www.space-r.net/wp/wp-content/uploads/2021/12/DSC01338.jpg
END:VEVENT
END:VCALENDAR