BEGIN:VCALENDAR
VERSION:2.0
PRODID:-//スペースＲデザイン - ECPv5.16.4//NONSGML v1.0//EN
CALSCALE:GREGORIAN
METHOD:PUBLISH
X-WR-CALNAME:スペースＲデザイン
X-ORIGINAL-URL:https://www.space-r.net
X-WR-CALDESC:スペースＲデザイン のイベント
BEGIN:VTIMEZONE
TZID:Asia/Tokyo
BEGIN:STANDARD
TZOFFSETFROM:+0900
TZOFFSETTO:+0900
TZNAME:JST
DTSTART:20260101T000000
END:STANDARD
END:VTIMEZONE
BEGIN:VEVENT
DTSTART;TZID=Asia/Tokyo:20260509T110000
DTEND;TZID=Asia/Tokyo:20260509T170000
DTSTAMP:20260425T222851
CREATED:20260310T020023Z
LAST-MODIFIED:20260310T022853Z
UID:289962-1778324400-1778346000@www.space-r.net
SUMMARY:れいぜん荘ピクニック＆あおぞら市 in 冷泉荘 2026
DESCRIPTION:国有形登録文化財「リノベーションミュージアム冷泉荘」にて、建物散策、お部屋見学やイベントなど、冷泉荘をたっぷりご堪能いただける「れいぜん荘ピクニック」を開催します。\n冷泉荘管理人といっしょにめぐる、「冷泉荘ツアー」も開催。\n『冷泉荘行くのってはじめてなんだけど…』という方も、 たっぷりすみずみまで冷泉荘をご堪能いただけます。\nピクニック気分で冷泉荘をあちこち散策しませんか？ぜひ、ふらりとお立ち寄りください～！ \n \n大好評の「あおぞら市」同時開催！毎年、福岡を中心に九州各地の作家さんやデザイナーが集まります！\nふらりと遊びにいらしてください～！ \n＊あおぞら市の出店者さんは近日募集開始となりますので、お待ちください！\nあおぞら市詳細はこちら▶https://x.com/aozora_Ichi \n＊冷泉荘の各お部屋でのイベント情報や、あおぞら市の出店者情報は冷泉荘ウェブサイトにて\n随時更新していきます。おたのしみに！ \n＊過去のれいぜん荘ピクニックの様子はこちら\nhttps://www.space-r.net/blog/category/building/reizensou \n【イベント概要】 \n\n\n\n日時\n\n2026年5月9日（土） 11:00〜17:00ごろ\n\n\n\n会場\n冷泉荘のあちこち、冷泉荘全体（福岡市博多区上川端町9-35）\n\n\nアクセス\n\n\n福岡市営地下鉄中洲川端駅5番出口より徒歩5分\n西鉄バス川端町博多座前徒歩5分\n\n冷泉公園と川端商店街の間の細い路地に入る\n※駐車場はありません。\nhttps://www.space-r.net/rent-page/reizensou/access\n\n\n\nお問い合わせ\n\n\n冷泉荘事務局：092-985-4562（https://www.reizensou.com）\nあおぞら市代表 e-acce.：080-3993-8725（https://x.com/aozora_Ichi）\n\n\n\n\n\n                Tweet
URL:https://www.space-r.net/event/reizensou_picnic2026
LOCATION:冷泉荘\, 福岡県福岡市博多区上川端町9-35\, Japan
CATEGORIES:冷泉荘
ATTACH;FMTTYPE=image/jpeg:https://www.space-r.net/wp/wp-content/uploads/2026/03/picnic2026_main.jpg
END:VEVENT
END:VCALENDAR