BEGIN:VCALENDAR
VERSION:2.0
PRODID:-//スペースＲデザイン - ECPv5.16.4//NONSGML v1.0//EN
CALSCALE:GREGORIAN
METHOD:PUBLISH
X-WR-CALNAME:スペースＲデザイン
X-ORIGINAL-URL:https://www.space-r.net
X-WR-CALDESC:スペースＲデザイン のイベント
BEGIN:VTIMEZONE
TZID:Asia/Tokyo
BEGIN:STANDARD
TZOFFSETFROM:+0900
TZOFFSETTO:+0900
TZNAME:JST
DTSTART:20190101T000000
END:STANDARD
END:VTIMEZONE
BEGIN:VEVENT
DTSTART;TZID=Asia/Tokyo:20191005T103000
DTEND;TZID=Asia/Tokyo:20191005T160000
DTSTAMP:20260424T142925
CREATED:20190921T042443Z
LAST-MODIFIED:20190927T114131Z
UID:250779-1570271400-1570291200@www.space-r.net
SUMMARY:【山王マンション】既存部屋再生 解体ワークショップ
DESCRIPTION:築52年を迎えるリノベーションミュージアム山王マンション。\nこのたび、建築当時のままのお部屋が空室となりました。これまではバリっとリノベーションを行ってきましたが、今回はリノベーションの過程をDIYで行います。 \nまず第一弾は「解体！！」\n50年も前のチャーミングなパーツ、\nのこす？\nこわす？を\n考えながら行う解体が、実は一番大切だったりします。 \n山王マンション52年のストーリーに思いを馳せて、次の時代につなぐ再生のスタートアップにぜひご参加ください。 \n \n山王マンションが歩んできた歴史はストーリーページをご覧ください。 \n  \n\nワークショップ概要\n\n\n日程：\n2019年10月5日(土)\n\n\n時間：\n10:30～16：00\n\n\n内容：\n\n\n解体ワークショップ\n[タイムスケジュール]\n 10:30～11:00　説明\n11:00～12:30　解体作業\n12:30～13:30　昼食・休憩（天気がよければ、近くの公園でお弁当！）\n13:30～16:00　解体作業\n※状況を見ながら、随時休憩を取ります\n\n\n\n\n会場：\n山王マンション（福岡市博多区博多駅南4丁目19-5）※307号室にお越しください\n\n\n参加費：\n500円（お弁当代）\n\n\n定員：\n10名\n\n\n申込み締切：\n10月4日（金）\n\n\n備考：\n\n\n汚れても良い服装でお越しください\n必要な方はタオルと飲み物（水分補給用）をご持参ください\n\n\n\n\n問合せ・申込み\nスペースＲデザインまで\nお電話またはメールでお問い合わせください。申込みフォーム\n\n\n\n                Tweet
URL:https://www.space-r.net/event/sannou307kaitaiws1005
LOCATION:山王マンション\, 福岡市博多区博多駅南4-19-5\, 812-0016\, 日本
CATEGORIES:ワークショップ,山王マンション
ATTACH;FMTTYPE=image/jpeg:https://www.space-r.net/wp/wp-content/uploads/2019/09/kaitai2-1.jpg
END:VEVENT
END:VCALENDAR